BEGIN:VCALENDAR
VERSION:2.0
PRODID:-//Zona VIP//Eventos Querétaro//ES
CALSCALE:GREGORIAN
METHOD:PUBLISH
BEGIN:VEVENT
UID:db4bc4aeb9238fc5e7e4c628f8cd9881@zonavip.mx
DTSTAMP:20260420T085040Z
DTSTART:20260503T020000Z
DTEND:20260503T050000Z
SUMMARY:Yerí Mua en Querétaro
DESCRIPTION:La irreverencia, el estilo y la energía explosiva llegan al escenario con Yeri Mua, una de las figuras más virales y comentadas del momento. Con su actitud auténtica y un show lleno de color, baile y conexión total con su público, Yeri Mua promete una noche intensa donde el perreo, los beats urbanos y la fiesta no paran. Cada presentación se convierte en una experiencia llena de luces, coreografías y momentos que encienden las redes.
LOCATION:Foro Arpa, Prol. Bernardo Quintana 173, Loma Dorada
URL:https://zonavip.mx/evento/yeri-mua-en-queretaro/
END:VEVENT
END:VCALENDAR
