BEGIN:VCALENDAR
VERSION:2.0
PRODID:-//Zona VIP//Eventos Querétaro//ES
CALSCALE:GREGORIAN
METHOD:PUBLISH
BEGIN:VEVENT
UID:bb23e17eeefcc811a74bee39f90d3421@zonavip.mx
DTSTAMP:20260421T085718Z
DTSTART:20260503T030000Z
DTEND:20260503T050000Z
SUMMARY:Mijares en Querétaro
DESCRIPTION:La elegancia y la voz que han marcado generaciones regresan al escenario con un espectáculo inolvidable. Manuel Mijares llega para ofrecer una noche llena de romanticismo, calidad vocal y grandes recuerdos. Con una trayectoria sólida dentro del pop latino, Mijares promete un recorrido por los temas que han acompañado historias de amor durante décadas. Su interpretación impecable y presencia escénica convierten cada concierto en una experiencia íntima y emotiva.
LOCATION:Auditorio Josefa Ortiz de Domínguez, Querétaro, México
URL:https://zonavip.mx/evento/mijares-en-queretaro/
END:VEVENT
END:VCALENDAR
